BEGIN:VCALENDAR
VERSION:2.0
PRODID:spatie/icalendar-generator
DESCRIPTION:Events from Turkish Airlines Bowling
X-WR-CALDESC:Events from Turkish Airlines Bowling
REFRESH-INTERVAL;VALUE=DURATION:PT1440M
X-PUBLISHED-TTL:PT1440M
BEGIN:VTIMEZONE
TZID:Etc/GMT-3
BEGIN:STANDARD
DTSTART:20250704T170000Z
TZOFFSETFROM:+0300
TZOFFSETTO:+0300
END:STANDARD
END:VTIMEZONE
BEGIN:VTIMEZONE
TZID:UTC
BEGIN:STANDARD
DTSTART:20250725T094549Z
TZOFFSETFROM:+0000
TZOFFSETTO:+0000
END:STANDARD
END:VTIMEZONE
BEGIN:VEVENT
UID:358-334
DTSTAMP:20260421T094549Z
SUMMARY:Athens - Sports Park Spata
LOCATION:
ORGANIZER;CN=admin:MAILTO:yqitemsus5hj@sxb1plzcpnl504197.prod.sxb1.securese
 rver.net
DTSTART;TZID=Etc/GMT-3:20260331T170000
DTEND;TZID=Etc/GMT-3:20260331T230000
X-ALT-DESC;FMTTYPE=TEXT/HTML:<p>Sports Park Spata</p>\n
CATEGORIES:General
URL;VALUE=URI:https://turkishairlinesbowling.com/mc-events/athens-sports-pa
 rk-spata-2/
METHOD:PUBLISH
END:VEVENT
END:VCALENDAR